BEGIN:VCALENDAR
VERSION:2.0
PRODID:-//Innovation Studios - ECPv4.9.13//NONSGML v1.0//EN
CALSCALE:GREGORIAN
METHOD:PUBLISH
X-WR-CALNAME:Innovation Studios
X-ORIGINAL-URL:https://innovationstudios.com.au
X-WR-CALDESC:Events for Innovation Studios
BEGIN:VTIMEZONE
TZID:Asia/Shanghai
BEGIN:STANDARD
TZOFFSETFROM:+0800
TZOFFSETTO:+0800
TZNAME:CST
DTSTART:20180101T000000
END:STANDARD
END:VTIMEZONE
BEGIN:VEVENT
DTSTART;TZID=Asia/Shanghai:20181101T073000
DTEND;TZID=Asia/Shanghai:20181101T113000
DTSTAMP:20200302T112330
CREATED:20180907T065416Z
LAST-MODIFIED:20180928T083221Z
UID:679-1541057400-1541071800@innovationstudios.com.au
SUMMARY:Unlocking an Organisation's Mechanisms to Drive Innovation
DESCRIPTION:This workshop will explore the interplay of mechanisms\, that organisations need to be aware of\, that will either support or hinder your innovation journey\, including the roles of cultural change\, budgeting cycles\, new markets/products\, your risk appetite\, and the different types of innovation. \nParticipants will be introduced to various mechanisms and understand how they impact on an innovation journey. They will also work through identifying which of these are currently in action in their own organisations and create a plan to action when returning to their company. \nThroughout the morning we will cover: \n\nTypes of Innovation Strategy – moving from theory to real-world action\nFinding your place in doing something differently\nInfluencing beyond boundaries\nKick-starting a stalled strategy\nAdopting an experimental approach\nReady\, Aim\, Fire – getting ready to create impact at your organisation\n\nThis session is highly interactive with a focus on Disruption by Doing. Participants will work together on some exercises to aid with the learning throughout the morning. \nA light breakfast will be served along with tea and coffee throughout the morning. \n
URL:https://innovationstudios.com.au/event/unlocking-an-organizations-mechanisms-to-drive-innovation/
LOCATION:Gemstar Innovation Hub\, 36 Pier Street\, Perth\, WA\, 6000\, AU
CATEGORIES:Workshops
ATTACH;FMTTYPE=image/jpeg:https://innovationstudios.com.au/wp-content/uploads/2018/09/3156c765de29d26f1953b0751751a27f.jpg
END:VEVENT
END:VCALENDAR